BEGIN:VCALENDAR
VERSION:2.0
PRODID:icalendar-ruby
CALSCALE:GREGORIAN
METHOD:PUBLISH
BEGIN:VEVENT
DTSTAMP:20260422T235955Z
UID:10-584731@npbc.org.au
DTSTART:20261024T230000Z
DTEND:20261025T000000Z
CLASS:PUBLIC
CREATED:20260423T091806
DESCRIPTION:9am Sunday Service
LAST-MODIFIED:20260423T091806
LOCATION:
SUMMARY:9am Sunday Service
URL;VALUE=URI:https://www.npbc.org.au/events/9am-sunday-service/2026-10-25
END:VEVENT
END:VCALENDAR
