BEGIN:VCALENDAR
VERSION:2.0
PRODID:icalendar-ruby
CALSCALE:GREGORIAN
METHOD:PUBLISH
BEGIN:VEVENT
DTSTAMP:20260422T220650Z
UID:10-584534@npbc.org.au
DTSTART:20261017T230000Z
DTEND:20261018T000000Z
CLASS:PUBLIC
CREATED:20260423T062528
DESCRIPTION:9am Sunday Service
LAST-MODIFIED:20260423T062528
LOCATION:
SUMMARY:9am Sunday Service
URL;VALUE=URI:https://www.npbc.org.au/events/9am-sunday-service/2026-10-18
END:VEVENT
END:VCALENDAR
