BEGIN:VCALENDAR
VERSION:2.0
PRODID:icalendar-ruby
CALSCALE:GREGORIAN
METHOD:PUBLISH
BEGIN:VEVENT
DTSTAMP:20260422T184351Z
UID:10-584336@npbc.org.au
DTSTART:20261003T230000Z
DTEND:20261004T000000Z
CLASS:PUBLIC
CREATED:20260423T033030
DESCRIPTION:9am Sunday Service
LAST-MODIFIED:20260423T033030
LOCATION:
SUMMARY:9am Sunday Service
URL;VALUE=URI:https://www.npbc.org.au/events/9am-sunday-service/2026-10-04
END:VEVENT
END:VCALENDAR
