BEGIN:VCALENDAR
VERSION:2.0
PRODID:icalendar-ruby
CALSCALE:GREGORIAN
METHOD:PUBLISH
BEGIN:VEVENT
DTSTAMP:20260422T150947Z
UID:10-584138@npbc.org.au
DTSTART:20260919T230000Z
DTEND:20260920T000000Z
CLASS:PUBLIC
CREATED:20260423T003509
DESCRIPTION:9am Sunday Service
LAST-MODIFIED:20260423T003509
LOCATION:
SUMMARY:9am Sunday Service
URL;VALUE=URI:https://www.npbc.org.au/events/9am-sunday-service/2026-09-20
END:VEVENT
END:VCALENDAR
