BEGIN:VCALENDAR
VERSION:2.0
PRODID:icalendar-ruby
CALSCALE:GREGORIAN
METHOD:PUBLISH
BEGIN:VEVENT
DTSTAMP:20260421T091644Z
UID:10-582408@npbc.org.au
DTSTART:20230812T230000Z
DTEND:20230813T000000Z
CLASS:PUBLIC
CREATED:20260421T102335
DESCRIPTION:9am Sunday Service
LAST-MODIFIED:20260421T102335
LOCATION:
SUMMARY:9am Sunday Service
URL;VALUE=URI:https://www.npbc.org.au/events/9am-sunday-service/2023-08-13
END:VEVENT
END:VCALENDAR
